BEGIN:VCALENDAR
VERSION:2.0
PRODID:-//Hastings Golf Club - ECPv6.15.18//NONSGML v1.0//EN
CALSCALE:GREGORIAN
METHOD:PUBLISH
X-WR-CALNAME:Hastings Golf Club
X-ORIGINAL-URL:https://www.hastingsgolfclub.com
X-WR-CALDESC:Events for Hastings Golf Club
REFRESH-INTERVAL;VALUE=DURATION:PT1H
X-Robots-Tag:noindex
X-PUBLISHED-TTL:PT1H
BEGIN:VTIMEZONE
TZID:America/Chicago
BEGIN:DAYLIGHT
TZOFFSETFROM:-0600
TZOFFSETTO:-0500
TZNAME:CDT
DTSTART:20240310T080000
END:DAYLIGHT
BEGIN:STANDARD
TZOFFSETFROM:-0500
TZOFFSETTO:-0600
TZNAME:CST
DTSTART:20241103T070000
END:STANDARD
BEGIN:DAYLIGHT
TZOFFSETFROM:-0600
TZOFFSETTO:-0500
TZNAME:CDT
DTSTART:20250309T080000
END:DAYLIGHT
BEGIN:STANDARD
TZOFFSETFROM:-0500
TZOFFSETTO:-0600
TZNAME:CST
DTSTART:20251102T070000
END:STANDARD
BEGIN:DAYLIGHT
TZOFFSETFROM:-0600
TZOFFSETTO:-0500
TZNAME:CDT
DTSTART:20260308T080000
END:DAYLIGHT
BEGIN:STANDARD
TZOFFSETFROM:-0500
TZOFFSETTO:-0600
TZNAME:CST
DTSTART:20261101T070000
END:STANDARD
END:VTIMEZONE
BEGIN:VEVENT
DTSTART;TZID=America/Chicago:20250404T160000
DTEND;TZID=America/Chicago:20250404T210000
DTSTAMP:20260420T072758
CREATED:20250308T041032Z
LAST-MODIFIED:20250308T041051Z
UID:10001325-1743782400-1743800400@www.hastingsgolfclub.com
SUMMARY:Fish Fry Friday & LIVE music!
DESCRIPTION:Click HERE to make your reservation!
URL:https://www.hastingsgolfclub.com/event/fish-fry-friday/2025-04-04/
END:VEVENT
BEGIN:VEVENT
DTSTART;TZID=America/Chicago:20250406T130000
DTEND;TZID=America/Chicago:20250406T160000
DTSTAMP:20260420T072758
CREATED:20250308T032058Z
LAST-MODIFIED:20250308T032058Z
UID:10001303-1743944400-1743955200@www.hastingsgolfclub.com
SUMMARY:Hastings First Responders Benefit- ALL ARE WELCOME!
DESCRIPTION:
URL:https://www.hastingsgolfclub.com/event/hastings-first-responders-benefit-all-are-welcome/
END:VEVENT
BEGIN:VEVENT
DTSTART;TZID=America/Chicago:20250411T160000
DTEND;TZID=America/Chicago:20250411T210000
DTSTAMP:20260420T072758
CREATED:20250308T041032Z
LAST-MODIFIED:20250308T041051Z
UID:10001326-1744387200-1744405200@www.hastingsgolfclub.com
SUMMARY:Fish Fry Friday & LIVE music!
DESCRIPTION:Click HERE to make your reservation!
URL:https://www.hastingsgolfclub.com/event/fish-fry-friday/2025-04-11/
END:VEVENT
BEGIN:VEVENT
DTSTART;TZID=America/Chicago:20250414T100000
DTEND;TZID=America/Chicago:20250414T110000
DTSTAMP:20260420T072758
CREATED:20250304T223927Z
LAST-MODIFIED:20250304T223927Z
UID:10000135-1744624800-1744628400@www.hastingsgolfclub.com
SUMMARY:High School Invite
DESCRIPTION:6 Tee Times starting at 10AM
URL:https://www.hastingsgolfclub.com/event/high-school-invite/
END:VEVENT
BEGIN:VEVENT
DTSTART;TZID=America/Chicago:20250417T100000
DTEND;TZID=America/Chicago:20250417T110000
DTSTAMP:20260420T072758
CREATED:20250304T224723Z
LAST-MODIFIED:20250304T224723Z
UID:10000137-1744884000-1744887600@www.hastingsgolfclub.com
SUMMARY:High School Invite
DESCRIPTION:6 Tee Times starting at 10AM
URL:https://www.hastingsgolfclub.com/event/high-school-invite-3/
END:VEVENT
BEGIN:VEVENT
DTSTART;TZID=America/Chicago:20250418T160000
DTEND;TZID=America/Chicago:20250418T210000
DTSTAMP:20260420T072758
CREATED:20250308T041032Z
LAST-MODIFIED:20250308T041051Z
UID:10001327-1744992000-1745010000@www.hastingsgolfclub.com
SUMMARY:Fish Fry Friday & LIVE music!
DESCRIPTION:Click HERE to make your reservation!
URL:https://www.hastingsgolfclub.com/event/fish-fry-friday/2025-04-18/
END:VEVENT
BEGIN:VEVENT
DTSTART;TZID=America/Chicago:20250420T093000
DTEND;TZID=America/Chicago:20250420T133000
DTSTAMP:20260420T072758
CREATED:20250308T040526Z
LAST-MODIFIED:20250308T040754Z
UID:10001319-1745141400-1745155800@www.hastingsgolfclub.com
SUMMARY:Easter Brunch
DESCRIPTION:Click HERE to make your reservation! \n 
URL:https://www.hastingsgolfclub.com/event/easter-brunch/
END:VEVENT
BEGIN:VEVENT
DTSTART;TZID=America/Chicago:20250423T120000
DTEND;TZID=America/Chicago:20250423T170000
DTSTAMP:20260420T072758
CREATED:20250304T225932Z
LAST-MODIFIED:20250405T154135Z
UID:10000412-1745409600-1745427600@www.hastingsgolfclub.com
SUMMARY:Men's Day
DESCRIPTION:Standing Tee Times for Men’s Day Golfers
URL:https://www.hastingsgolfclub.com/event/mens-day/2025-04-23/
END:VEVENT
BEGIN:VEVENT
DTSTART;TZID=America/Chicago:20250427T130000
DTEND;TZID=America/Chicago:20250427T170000
DTSTAMP:20260420T072758
CREATED:20250414T212457Z
LAST-MODIFIED:20250414T212457Z
UID:10001328-1745758800-1745773200@www.hastingsgolfclub.com
SUMMARY:Swing Into Spring Golf Tournament
DESCRIPTION:CLICK HERE TO REGISTER!!! \n 
URL:https://www.hastingsgolfclub.com/event/swing-into-spring-golf-tournament/
END:VEVENT
BEGIN:VEVENT
DTSTART;TZID=America/Chicago:20250430T120000
DTEND;TZID=America/Chicago:20250430T170000
DTSTAMP:20260420T072758
CREATED:20250304T225932Z
LAST-MODIFIED:20250405T154135Z
UID:10000413-1746014400-1746032400@www.hastingsgolfclub.com
SUMMARY:Men's Day
DESCRIPTION:Standing Tee Times for Men’s Day Golfers
URL:https://www.hastingsgolfclub.com/event/mens-day/2025-04-30/
END:VEVENT
END:VCALENDAR