BEGIN:VCALENDAR
VERSION:2.0
PRODID:-//Hastings Golf Club - ECPv6.15.18//NONSGML v1.0//EN
CALSCALE:GREGORIAN
METHOD:PUBLISH
X-WR-CALNAME:Hastings Golf Club
X-ORIGINAL-URL:https://www.hastingsgolfclub.com
X-WR-CALDESC:Events for Hastings Golf Club
REFRESH-INTERVAL;VALUE=DURATION:PT1H
X-Robots-Tag:noindex
X-PUBLISHED-TTL:PT1H
BEGIN:VTIMEZONE
TZID:America/Chicago
BEGIN:DAYLIGHT
TZOFFSETFROM:-0600
TZOFFSETTO:-0500
TZNAME:CDT
DTSTART:20230312T080000
END:DAYLIGHT
BEGIN:STANDARD
TZOFFSETFROM:-0500
TZOFFSETTO:-0600
TZNAME:CST
DTSTART:20231105T070000
END:STANDARD
BEGIN:DAYLIGHT
TZOFFSETFROM:-0600
TZOFFSETTO:-0500
TZNAME:CDT
DTSTART:20240310T080000
END:DAYLIGHT
BEGIN:STANDARD
TZOFFSETFROM:-0500
TZOFFSETTO:-0600
TZNAME:CST
DTSTART:20241103T070000
END:STANDARD
BEGIN:DAYLIGHT
TZOFFSETFROM:-0600
TZOFFSETTO:-0500
TZNAME:CDT
DTSTART:20250309T080000
END:DAYLIGHT
BEGIN:STANDARD
TZOFFSETFROM:-0500
TZOFFSETTO:-0600
TZNAME:CST
DTSTART:20251102T070000
END:STANDARD
END:VTIMEZONE
BEGIN:VEVENT
DTSTART;TZID=America/Chicago:20240904T080000
DTEND;TZID=America/Chicago:20240904T170000
DTSTAMP:20260424T204436
CREATED:20240905T021832Z
LAST-MODIFIED:20240905T021832Z
UID:10000043-1725436800-1725469200@www.hastingsgolfclub.com
SUMMARY:Lumberjack Ladies 9 hole scramble
DESCRIPTION:Grab the gals and your flannel for this woodsy golf experience!  4 person scramble means golfers of all talent are welcome! \nClick HERE to register! \n  \n \n 
URL:https://www.hastingsgolfclub.com/event/lumberjack-ladies-9-hole-scramble/
END:VEVENT
BEGIN:VEVENT
DTSTART;TZID=America/Chicago:20240904T080000
DTEND;TZID=America/Chicago:20240904T170000
DTSTAMP:20260424T204436
CREATED:20240905T022658Z
LAST-MODIFIED:20240905T022658Z
UID:10000044-1725436800-1725469200@www.hastingsgolfclub.com
SUMMARY:Glow Golf - 9 holes
DESCRIPTION:THE BEST NIGHT OF THE YEAR!!  (add $10 for pull cart if needed) \nCLICK HERE TO REGISTER~ \n 
URL:https://www.hastingsgolfclub.com/event/glow-golf-9-holes/
END:VEVENT
BEGIN:VEVENT
DTSTART;TZID=America/Chicago:20240920T173000
DTEND;TZID=America/Chicago:20240920T210000
DTSTAMP:20260424T204436
CREATED:20240905T021219Z
LAST-MODIFIED:20240905T021219Z
UID:10000042-1726853400-1726866000@www.hastingsgolfclub.com
SUMMARY:IVY LEAGUE Couple's Golf Night
DESCRIPTION:Come “yuppie” it up with us for Hastings Golf Club’s Ivy League themed couple’s night. \nClick HERE to register!
URL:https://www.hastingsgolfclub.com/event/ivy-league-couples-golf-night/
END:VEVENT
END:VCALENDAR