BEGIN:VCALENDAR
VERSION:2.0
PRODID:-//Hastings Golf Club - ECPv6.15.18//NONSGML v1.0//EN
CALSCALE:GREGORIAN
METHOD:PUBLISH
X-ORIGINAL-URL:https://www.hastingsgolfclub.com
X-WR-CALDESC:Events for Hastings Golf Club
REFRESH-INTERVAL;VALUE=DURATION:PT1H
X-Robots-Tag:noindex
X-PUBLISHED-TTL:PT1H
BEGIN:VTIMEZONE
TZID:America/Chicago
BEGIN:DAYLIGHT
TZOFFSETFROM:-0600
TZOFFSETTO:-0500
TZNAME:CDT
DTSTART:20230312T080000
END:DAYLIGHT
BEGIN:STANDARD
TZOFFSETFROM:-0500
TZOFFSETTO:-0600
TZNAME:CST
DTSTART:20231105T070000
END:STANDARD
BEGIN:DAYLIGHT
TZOFFSETFROM:-0600
TZOFFSETTO:-0500
TZNAME:CDT
DTSTART:20240310T080000
END:DAYLIGHT
BEGIN:STANDARD
TZOFFSETFROM:-0500
TZOFFSETTO:-0600
TZNAME:CST
DTSTART:20241103T070000
END:STANDARD
BEGIN:DAYLIGHT
TZOFFSETFROM:-0600
TZOFFSETTO:-0500
TZNAME:CDT
DTSTART:20250309T080000
END:DAYLIGHT
BEGIN:STANDARD
TZOFFSETFROM:-0500
TZOFFSETTO:-0600
TZNAME:CST
DTSTART:20251102T070000
END:STANDARD
END:VTIMEZONE
BEGIN:VEVENT
DTSTART;TZID=America/Chicago:20240428T130000
DTEND;TZID=America/Chicago:20240428T150000
DTSTAMP:20260422T073321
CREATED:20240330T022254Z
LAST-MODIFIED:20240330T025805Z
UID:10000019-1714309200-1714316400@www.hastingsgolfclub.com
SUMMARY:Trailer Park Bingo
DESCRIPTION:Come Join in the Fun!
URL:https://www.hastingsgolfclub.com/event/live-music-jonah-conway-6-9pm/
END:VEVENT
BEGIN:VEVENT
DTSTART;TZID=America/Chicago:20240428T130000
DTEND;TZID=America/Chicago:20240428T150000
DTSTAMP:20260422T073321
CREATED:20240330T030843Z
LAST-MODIFIED:20240402T022657Z
UID:10000024-1714309200-1714316400@www.hastingsgolfclub.com
SUMMARY:Trailer Park Bingo!
DESCRIPTION:Our second year of this amazingness!! \nWe sold out last year- CLICK HERE to purchase tickets.
URL:https://www.hastingsgolfclub.com/event/trailer-park-bingo/
END:VEVENT
END:VCALENDAR